BEGIN:VCALENDAR
VERSION:2.0
PRODID:-//San Francisco Bay Area Moms - ECPv6.15.20//NONSGML v1.0//EN
CALSCALE:GREGORIAN
METHOD:PUBLISH
X-ORIGINAL-URL:https://sanfranciscomoms.com
X-WR-CALDESC:Events for San Francisco Bay Area Moms
REFRESH-INTERVAL;VALUE=DURATION:PT1H
X-Robots-Tag:noindex
X-PUBLISHED-TTL:PT1H
BEGIN:VTIMEZONE
TZID:America/Los_Angeles
BEGIN:DAYLIGHT
TZOFFSETFROM:-0800
TZOFFSETTO:-0700
TZNAME:PDT
DTSTART:20250309T100000
END:DAYLIGHT
BEGIN:STANDARD
TZOFFSETFROM:-0700
TZOFFSETTO:-0800
TZNAME:PST
DTSTART:20251102T090000
END:STANDARD
BEGIN:DAYLIGHT
TZOFFSETFROM:-0800
TZOFFSETTO:-0700
TZNAME:PDT
DTSTART:20260308T100000
END:DAYLIGHT
BEGIN:STANDARD
TZOFFSETFROM:-0700
TZOFFSETTO:-0800
TZNAME:PST
DTSTART:20261101T090000
END:STANDARD
BEGIN:DAYLIGHT
TZOFFSETFROM:-0800
TZOFFSETTO:-0700
TZNAME:PDT
DTSTART:20270314T100000
END:DAYLIGHT
BEGIN:STANDARD
TZOFFSETFROM:-0700
TZOFFSETTO:-0800
TZNAME:PST
DTSTART:20271107T090000
END:STANDARD
END:VTIMEZONE
BEGIN:VEVENT
DTSTART;TZID=America/Los_Angeles:20260501T200000
DTEND;TZID=America/Los_Angeles:20260502T220000
DTSTAMP:20260422T114635
CREATED:20260324T202719Z
LAST-MODIFIED:20260324T202719Z
UID:10015623-1777665600-1777759200@sanfranciscomoms.com
SUMMARY:The Unfinished Work of Camille Claudel
DESCRIPTION:Camille Claudel was an Impressionist sculptor in France at the turn of the century. She defied expectations of women at the time by creating dynamic pieces that shocked the art establishment. Single-handedly\, Camille manipulated marble into artworks that tenderly exposed the full range of her subjects’ humanity. She was a visionary\, but Claudel’s genius came at a price. \nPeople’s Circus Theatre blends circus\, dance\, and physical theatre to tell Camille’s story. In this stunning homage\, Claudel’s art is brought to life through movement. “The Unfinished Work of Camille Claudel” is a passionate revelation of art in the face of adversity. \nSneak Preview at the San Francisco Circus Festival\nClub Fugazi\, 678 Green St.\, SF\nApril 16 at 7:30pm \nPremiering at the San Francisco International Arts Festival\nDance Mission Theater\, 3316 24th St.\, SF\nMay 1 at 8pm\nMay 2 at 8:30pm \nODC Theater\n3153 17th St.\nJune 4 & 5 at 7:30pm\nJune 6 at 4pm & 7:30pm \nRecommended for ages 10+.\nInformation & Tickets: peoplescircustheatre.org/camille-claudel
URL:https://sanfranciscomoms.com/event/the-unfinished-work-of-camille-claudel/
LOCATION:Dance Mission Theater\, 3316 24th St\, San Francisco\, 94110
CATEGORIES:San Francisco
ATTACH;FMTTYPE=image/jpeg:https://sanfranciscomoms.com/wp-content/uploads/2026/03/Camille-Claudel-Horizontal-scaled.jpg
END:VEVENT
END:VCALENDAR