BEGIN:VCALENDAR
VERSION:2.0
PRODID:-//San Francisco Bay Area Moms - ECPv6.15.20//NONSGML v1.0//EN
CALSCALE:GREGORIAN
METHOD:PUBLISH
X-WR-CALNAME:San Francisco Bay Area Moms
X-ORIGINAL-URL:https://sanfranciscomoms.com
X-WR-CALDESC:Events for San Francisco Bay Area Moms
REFRESH-INTERVAL;VALUE=DURATION:PT1H
X-Robots-Tag:noindex
X-PUBLISHED-TTL:PT1H
BEGIN:VTIMEZONE
TZID:America/Los_Angeles
BEGIN:DAYLIGHT
TZOFFSETFROM:-0800
TZOFFSETTO:-0700
TZNAME:PDT
DTSTART:20250309T100000
END:DAYLIGHT
BEGIN:STANDARD
TZOFFSETFROM:-0700
TZOFFSETTO:-0800
TZNAME:PST
DTSTART:20251102T090000
END:STANDARD
BEGIN:DAYLIGHT
TZOFFSETFROM:-0800
TZOFFSETTO:-0700
TZNAME:PDT
DTSTART:20260308T100000
END:DAYLIGHT
BEGIN:STANDARD
TZOFFSETFROM:-0700
TZOFFSETTO:-0800
TZNAME:PST
DTSTART:20261101T090000
END:STANDARD
BEGIN:DAYLIGHT
TZOFFSETFROM:-0800
TZOFFSETTO:-0700
TZNAME:PDT
DTSTART:20270314T100000
END:DAYLIGHT
BEGIN:STANDARD
TZOFFSETFROM:-0700
TZOFFSETTO:-0800
TZNAME:PST
DTSTART:20271107T090000
END:STANDARD
END:VTIMEZONE
BEGIN:VEVENT
DTSTART;TZID=America/Los_Angeles:20260516T150000
DTEND;TZID=America/Los_Angeles:20260516T210000
DTSTAMP:20260422T121123
CREATED:20260421T180032Z
LAST-MODIFIED:20260421T180052Z
UID:10015766-1778943600-1778965200@sanfranciscomoms.com
SUMMARY:Sonoma Valley Western Reserve
DESCRIPTION:Join us Saturday\, May 16th at the private Wing & Barrel Ranch for an unforgettable evening celebrating the intersection of world-class Sonoma Valley wine and authentic Western spirit. This is your chance to sip rare reserve labels poured by the vintners themselves\, paired with signature cocktails\, live music\, and a hearty ranch-style dinner. \nFull Ranch Experience – for those looking to embrace the spirit of the West\, guests can participate in premier sporting activities\, including clay shooting\, fishing\, casting\, and archery. \nExclusive Access – this member-only setting offers a rare opportunity to bid on elite wine packages and acquire bottles not available to the general public. Connect with the valley’s most storied vintners and growers for a night defined by great wine and unforgettable characters. \nAll proceeds benefit the Sonoma Valley Vintners & Growers Foundation.
URL:https://sanfranciscomoms.com/event/sonoma-valley-western-reserve/
LOCATION:Wing & Barrel Ranch
CATEGORIES:Fun for Moms
ATTACH;FMTTYPE=image/jpeg:https://sanfranciscomoms.com/wp-content/uploads/2026/04/Archery-1024x681-1.jpg
END:VEVENT
END:VCALENDAR